BEGIN:VCALENDAR
VERSION:2.0
PRODID:-//LEO Network//Training Calendar//EN
BEGIN:VEVENT
UID:event-317@leo-network.com
DTSTAMP:20260419T210121Z
DTSTART:20230605T150000Z
DTEND:20230606T000000Z
SUMMARY:Bolt Action Sniper Rifle Armorer Course
DESCRIPTION:Law Enforcement Training
Hosted by: Training Provider

View event details:
https://www.leo-network.com/event/bolt-action-sniper-rifle-armorer-course-evansville-in-317/
LOCATION:Evansville, IN
URL:https://www.leo-network.com/event/bolt-action-sniper-rifle-armorer-course-evansville-in-317/
END:VEVENT
END:VCALENDAR
