BEGIN:VCALENDAR
VERSION:2.0
PRODID:-//LEO Network//Training Calendar//EN
BEGIN:VEVENT
UID:event-3173@leo-network.com
DTSTAMP:20260421T205312Z
DTSTART:20231003T150000Z
DTEND:20231004T000000Z
SUMMARY:Developing a Supervisory Training Officer (STO) Program
DESCRIPTION:Law Enforcement Training
Hosted by: J Harris Academy of Police Training

View event details:
https://www.leo-network.com/event/developing-a-supervisory-training-officer-sto-program-newtown-ct-3173/
LOCATION:Newtown, CT
URL:https://www.leo-network.com/event/developing-a-supervisory-training-officer-sto-program-newtown-ct-3173/
END:VEVENT
END:VCALENDAR
