BEGIN:VCALENDAR
VERSION:2.0
PRODID:-//LEO Network//Training Calendar//EN
BEGIN:VEVENT
UID:event-3175@leo-network.com
DTSTAMP:20260420T202536Z
DTSTART:20240212T160000Z
DTEND:20240217T010000Z
SUMMARY:Advanced Undercover Techniques & Survival
DESCRIPTION:Law Enforcement Training
Hosted by: Undercover Officers Association

View event details:
https://www.leo-network.com/event/advanced-undercover-techniques-survival-rockville-md-3175/
LOCATION:Rockville, MD
URL:https://www.leo-network.com/event/advanced-undercover-techniques-survival-rockville-md-3175/
END:VEVENT
END:VCALENDAR
