BEGIN:VCALENDAR
VERSION:2.0
PRODID:-//LEO Network//Training Calendar//EN
BEGIN:VEVENT
UID:event-319@leo-network.com
DTSTAMP:20260421T045744Z
DTSTART:20221129T160000Z
DTEND:20221130T010000Z
SUMMARY:Advanced Search & Seizure
DESCRIPTION:Law Enforcement Training
Hosted by: Blue to Gold Training

View event details:
https://www.leo-network.com/event/advanced-search-seizure-sterling-co-319/
LOCATION:Sterling, CO
URL:https://www.leo-network.com/event/advanced-search-seizure-sterling-co-319/
END:VEVENT
END:VCALENDAR
