BEGIN:VCALENDAR
VERSION:2.0
PRODID:-//LEO Network//Training Calendar//EN
BEGIN:VEVENT
UID:event-3207@leo-network.com
DTSTAMP:20260422T205129Z
DTSTART:20231016T150000Z
DTEND:20231017T000000Z
SUMMARY:TrapMate* Hidden Compartment Training
DESCRIPTION:Law Enforcement Training
Hosted by: Dynamic Police Training

View event details:
https://www.leo-network.com/event/trapmate-hidden-compartment-training-burleson-tx-3207/
LOCATION:Burleson, TX
URL:https://www.leo-network.com/event/trapmate-hidden-compartment-training-burleson-tx-3207/
END:VEVENT
END:VCALENDAR
