BEGIN:VCALENDAR
VERSION:2.0
PRODID:-//LEO Network//Training Calendar//EN
BEGIN:VEVENT
UID:event-3211@leo-network.com
DTSTAMP:20260425T173704Z
DTSTART:20240122T160000Z
DTEND:20240123T010000Z
SUMMARY:NJ Open Public Records (OPRA) 
DESCRIPTION:Law Enforcement Training
Hosted by: J Harris Academy of Police Training

View event details:
https://www.leo-network.com/event/nj-open-public-records-opra-wayne-nj-3211/
LOCATION:Wayne, NJ
URL:https://www.leo-network.com/event/nj-open-public-records-opra-wayne-nj-3211/
END:VEVENT
END:VCALENDAR
