BEGIN:VCALENDAR
VERSION:2.0
PRODID:-//LEO Network//Training Calendar//EN
BEGIN:VEVENT
UID:event-3212@leo-network.com
DTSTAMP:20260425T161455Z
DTSTART:20240106T160000Z
DTEND:20240108T010000Z
SUMMARY:New Jersey Attorney General Guidelines & Directives
DESCRIPTION:Law Enforcement Training
Hosted by: J Harris Academy of Police Training

View event details:
https://www.leo-network.com/event/new-jersey-attorney-general-guidelines-directives-cookstown-nj-3212/
LOCATION:Cookstown, NJ
URL:https://www.leo-network.com/event/new-jersey-attorney-general-guidelines-directives-cookstown-nj-3212/
END:VEVENT
END:VCALENDAR
