BEGIN:VCALENDAR
VERSION:2.0
PRODID:-//LEO Network//Training Calendar//EN
BEGIN:VEVENT
UID:event-3213@leo-network.com
DTSTAMP:20260425T161312Z
DTSTART:20240113T160000Z
DTEND:20240115T010000Z
SUMMARY:New Jersey Attorney General Guidelines & Directives
DESCRIPTION:Law Enforcement Training
Hosted by: J Harris Academy of Police Training

View event details:
https://www.leo-network.com/event/new-jersey-attorney-general-guidelines-directives-wayne-nj-3213/
LOCATION:Wayne, NJ
URL:https://www.leo-network.com/event/new-jersey-attorney-general-guidelines-directives-wayne-nj-3213/
END:VEVENT
END:VCALENDAR
