BEGIN:VCALENDAR
VERSION:2.0
PRODID:-//LEO Network//Training Calendar//EN
BEGIN:VEVENT
UID:event-3214@leo-network.com
DTSTAMP:20260425T161419Z
DTSTART:20240113T160000Z
DTEND:20240115T010000Z
SUMMARY:New Jersey Case Law, In-Depth Two-Day Course
DESCRIPTION:Law Enforcement Training
Hosted by: J Harris Academy of Police Training

View event details:
https://www.leo-network.com/event/new-jersey-case-law-in-depth-two-day-course-cookstown-nj-3214/
LOCATION:Cookstown, NJ
URL:https://www.leo-network.com/event/new-jersey-case-law-in-depth-two-day-course-cookstown-nj-3214/
END:VEVENT
END:VCALENDAR
