BEGIN:VCALENDAR
VERSION:2.0
PRODID:-//LEO Network//Training Calendar//EN
BEGIN:VEVENT
UID:event-3215@leo-network.com
DTSTAMP:20260425T173030Z
DTSTART:20240120T160000Z
DTEND:20240122T010000Z
SUMMARY:New Jersey Case Law, In-Depth Two-Day Course
DESCRIPTION:Law Enforcement Training
Hosted by: J Harris Academy of Police Training

View event details:
https://www.leo-network.com/event/new-jersey-case-law-in-depth-two-day-course-wayne-nj-3215/
LOCATION:Wayne, NJ
URL:https://www.leo-network.com/event/new-jersey-case-law-in-depth-two-day-course-wayne-nj-3215/
END:VEVENT
END:VCALENDAR
