BEGIN:VCALENDAR
VERSION:2.0
PRODID:-//LEO Network//Training Calendar//EN
BEGIN:VEVENT
UID:event-3216@leo-network.com
DTSTAMP:20260425T224540Z
DTSTART:20240226T160000Z
DTEND:20240227T010000Z
SUMMARY:NJ Firearms Licensing 
DESCRIPTION:Law Enforcement Training
Hosted by: J Harris Academy of Police Training

View event details:
https://www.leo-network.com/event/nj-firearms-licensing-cookstown-nj-3216/
LOCATION:Cookstown, NJ
URL:https://www.leo-network.com/event/nj-firearms-licensing-cookstown-nj-3216/
END:VEVENT
END:VCALENDAR
