BEGIN:VCALENDAR
VERSION:2.0
PRODID:-//LEO Network//Training Calendar//EN
BEGIN:VEVENT
UID:event-3217@leo-network.com
DTSTAMP:20260421T192009Z
DTSTART:20240313T150000Z
DTEND:20240314T000000Z
SUMMARY:Road Sergeant Tune-Up
DESCRIPTION:Law Enforcement Training
Hosted by: J Harris Academy of Police Training

View event details:
https://www.leo-network.com/event/road-sergeant-tune-up-southington-ct-3217/
LOCATION:Southington, CT
URL:https://www.leo-network.com/event/road-sergeant-tune-up-southington-ct-3217/
END:VEVENT
END:VCALENDAR
