BEGIN:VCALENDAR
VERSION:2.0
PRODID:-//LEO Network//Training Calendar//EN
BEGIN:VEVENT
UID:event-322@leo-network.com
DTSTAMP:20260421T045543Z
DTSTART:20221201T160000Z
DTEND:20221202T010000Z
SUMMARY:Advanced Criminal Investigations
DESCRIPTION:Law Enforcement Training
Hosted by: Blue to Gold Training

View event details:
https://www.leo-network.com/event/advanced-criminal-investigations-sterling-co-322/
LOCATION:Sterling, CO
URL:https://www.leo-network.com/event/advanced-criminal-investigations-sterling-co-322/
END:VEVENT
END:VCALENDAR
