BEGIN:VCALENDAR
VERSION:2.0
PRODID:-//LEO Network//Training Calendar//EN
BEGIN:VEVENT
UID:event-3225@leo-network.com
DTSTAMP:20260425T011245Z
DTSTART:20231101T150000Z
DTEND:20231102T000000Z
SUMMARY:Body Worn Camera: Tactics for Effective Use
DESCRIPTION:Law Enforcement Training
Hosted by: J Harris Academy of Police Training

View event details:
https://www.leo-network.com/event/body-worn-camera-tactics-for-effective-use-newtown-pa-3225/
LOCATION:Newtown, PA
URL:https://www.leo-network.com/event/body-worn-camera-tactics-for-effective-use-newtown-pa-3225/
END:VEVENT
END:VCALENDAR
