BEGIN:VCALENDAR
VERSION:2.0
PRODID:-//LEO Network//Training Calendar//EN
BEGIN:VEVENT
UID:event-3228@leo-network.com
DTSTAMP:20260424T182731Z
DTSTART:20240207T160000Z
DTEND:20240208T010000Z
SUMMARY:Public Safety Summit - Preparing for Retirement
DESCRIPTION:Law Enforcement Training
Hosted by: Embassy Consulting Services, LLC

View event details:
https://www.leo-network.com/event/public-safety-summit-preparing-for-retirement-irvine-ca-3228/
LOCATION:Irvine, CA
URL:https://www.leo-network.com/event/public-safety-summit-preparing-for-retirement-irvine-ca-3228/
END:VEVENT
END:VCALENDAR
