BEGIN:VCALENDAR
VERSION:2.0
PRODID:-//LEO Network//Training Calendar//EN
BEGIN:VEVENT
UID:event-323@leo-network.com
DTSTAMP:20260419T121520Z
DTSTART:20221201T160000Z
DTEND:20221202T010000Z
SUMMARY:Advanced Search & Seizure
DESCRIPTION:Law Enforcement Training
Hosted by: Blue to Gold Training

View event details:
https://www.leo-network.com/event/advanced-search-seizure-omaha-ne-323/
LOCATION:Omaha, NE
URL:https://www.leo-network.com/event/advanced-search-seizure-omaha-ne-323/
END:VEVENT
END:VCALENDAR
