BEGIN:VCALENDAR
VERSION:2.0
PRODID:-//LEO Network//Training Calendar//EN
BEGIN:VEVENT
UID:event-3236@leo-network.com
DTSTAMP:20260424T030004Z
DTSTART:20240820T150000Z
DTEND:20240821T000000Z
SUMMARY:Interdiction Academy
DESCRIPTION:Law Enforcement Training
Hosted by: Street Cop Training

View event details:
https://www.leo-network.com/event/interdiction-academy-clayton-nm-3236/
LOCATION:Clayton, NM
URL:https://www.leo-network.com/event/interdiction-academy-clayton-nm-3236/
END:VEVENT
END:VCALENDAR
