BEGIN:VCALENDAR
VERSION:2.0
PRODID:-//LEO Network//Training Calendar//EN
BEGIN:VEVENT
UID:event-324@leo-network.com
DTSTAMP:20260419T121513Z
DTSTART:20221202T160000Z
DTEND:20221203T010000Z
SUMMARY:Advanced Interview & Interrogation
DESCRIPTION:Law Enforcement Training
Hosted by: Blue to Gold Training

View event details:
https://www.leo-network.com/event/advanced-interview-interrogation-omaha-ne-324/
LOCATION:Omaha, NE
URL:https://www.leo-network.com/event/advanced-interview-interrogation-omaha-ne-324/
END:VEVENT
END:VCALENDAR
