BEGIN:VCALENDAR
VERSION:2.0
PRODID:-//LEO Network//Training Calendar//EN
BEGIN:VEVENT
UID:event-326@leo-network.com
DTSTAMP:20260419T205107Z
DTSTART:20221206T160000Z
DTEND:20221207T010000Z
SUMMARY:Advanced Search & Seizure
DESCRIPTION:Law Enforcement Training
Hosted by: Blue to Gold Training

View event details:
https://www.leo-network.com/event/advanced-search-seizure-andover-mn-326/
LOCATION:Andover, MN
URL:https://www.leo-network.com/event/advanced-search-seizure-andover-mn-326/
END:VEVENT
END:VCALENDAR
