BEGIN:VCALENDAR
VERSION:2.0
PRODID:-//LEO Network//Training Calendar//EN
BEGIN:VEVENT
UID:event-3261@leo-network.com
DTSTAMP:20260421T141410Z
DTSTART:20231127T160000Z
DTEND:20231130T010000Z
SUMMARY:DWI Detection and Standardized Field Sobriety Testing (SFST)
DESCRIPTION:Law Enforcement Training
Hosted by: Institute of Police Technology and Management (IPTM)

View event details:
https://www.leo-network.com/event/dwi-detection-and-standardized-field-sobriety-testing-sfst-naples-fl-3261/
LOCATION:Naples, FL
URL:https://www.leo-network.com/event/dwi-detection-and-standardized-field-sobriety-testing-sfst-naples-fl-3261/
END:VEVENT
END:VCALENDAR
