BEGIN:VCALENDAR
VERSION:2.0
PRODID:-//LEO Network//Training Calendar//EN
BEGIN:VEVENT
UID:event-3264@leo-network.com
DTSTAMP:20260421T135523Z
DTSTART:20231130T160000Z
DTEND:20231102T000000Z
SUMMARY:Advanced Roadside Impaired Driving Enforcement
DESCRIPTION:Law Enforcement Training
Hosted by: Institute of Police Technology and Management (IPTM)

View event details:
https://www.leo-network.com/event/advanced-roadside-impaired-driving-enforcement-naples-fl-3264/
LOCATION:Naples, FL
URL:https://www.leo-network.com/event/advanced-roadside-impaired-driving-enforcement-naples-fl-3264/
END:VEVENT
END:VCALENDAR
