BEGIN:VCALENDAR
VERSION:2.0
PRODID:-//LEO Network//Training Calendar//EN
BEGIN:VEVENT
UID:event-3265@leo-network.com
DTSTAMP:20260421T141418Z
DTSTART:20231127T160000Z
DTEND:20231102T000000Z
SUMMARY:Advanced Narcotic Investigation
DESCRIPTION:Law Enforcement Training
Hosted by: Institute of Police Technology and Management (IPTM)

View event details:
https://www.leo-network.com/event/advanced-narcotic-investigation-miami-fl-3265/
LOCATION:Miami, FL
URL:https://www.leo-network.com/event/advanced-narcotic-investigation-miami-fl-3265/
END:VEVENT
END:VCALENDAR
