BEGIN:VCALENDAR
VERSION:2.0
PRODID:-//LEO Network//Training Calendar//EN
BEGIN:VEVENT
UID:event-3274@leo-network.com
DTSTAMP:20260421T045549Z
DTSTART:20240321T150000Z
DTEND:20240323T000000Z
SUMMARY:Proper Patrol
DESCRIPTION:Law Enforcement Training
Hosted by: LEO DEN LLC

View event details:
https://www.leo-network.com/event/proper-patrol-sterling-co-3274/
LOCATION:Sterling, CO
URL:https://www.leo-network.com/event/proper-patrol-sterling-co-3274/
END:VEVENT
END:VCALENDAR
