BEGIN:VCALENDAR
VERSION:2.0
PRODID:-//LEO Network//Training Calendar//EN
BEGIN:VEVENT
UID:event-328@leo-network.com
DTSTAMP:20260419T204133Z
DTSTART:20221207T160000Z
DTEND:20221208T010000Z
SUMMARY:Advanced Traffic Stops
DESCRIPTION:Law Enforcement Training
Hosted by: Blue to Gold Training

View event details:
https://www.leo-network.com/event/advanced-traffic-stops-andover-mn-328/
LOCATION:Andover, MN
URL:https://www.leo-network.com/event/advanced-traffic-stops-andover-mn-328/
END:VEVENT
END:VCALENDAR
