BEGIN:VCALENDAR
VERSION:2.0
PRODID:-//LEO Network//Training Calendar//EN
BEGIN:VEVENT
UID:event-3281@leo-network.com
DTSTAMP:20260423T135448Z
DTSTART:20231116T160000Z
DTEND:20231117T010000Z
SUMMARY:New Jersey: Legal Update Agency In-Service
DESCRIPTION:Law Enforcement Training
Hosted by: J Harris Academy of Police Training

View event details:
https://www.leo-network.com/event/new-jersey-legal-update-agency-in-service-vineland-nj-3281/
LOCATION:Vineland, NJ
URL:https://www.leo-network.com/event/new-jersey-legal-update-agency-in-service-vineland-nj-3281/
END:VEVENT
END:VCALENDAR
