BEGIN:VCALENDAR
VERSION:2.0
PRODID:-//LEO Network//Training Calendar//EN
BEGIN:VEVENT
UID:event-3306@leo-network.com
DTSTAMP:20260420T183809Z
DTSTART:20240326T150000Z
DTEND:20240327T000000Z
SUMMARY:Springfield Armory XD/XDm/MOD2 Armorer
DESCRIPTION:Law Enforcement Training
Hosted by: Team One Network

View event details:
https://www.leo-network.com/event/springfield-armory-xd-xdm-mod2-armorer-baltimore-md-3306/
LOCATION:Baltimore, MD
URL:https://www.leo-network.com/event/springfield-armory-xd-xdm-mod2-armorer-baltimore-md-3306/
END:VEVENT
END:VCALENDAR
