BEGIN:VCALENDAR
VERSION:2.0
PRODID:-//LEO Network//Training Calendar//EN
BEGIN:VEVENT
UID:event-3307@leo-network.com
DTSTAMP:20260420T153117Z
DTSTART:20240327T150000Z
DTEND:20240328T000000Z
SUMMARY:Springfield Armory XDs/ Hellcat Armorer
DESCRIPTION:Law Enforcement Training
Hosted by: Team One Network

View event details:
https://www.leo-network.com/event/springfield-armory-xds-hellcat-armorer-baltimore-md-3307/
LOCATION:Baltimore, MD
URL:https://www.leo-network.com/event/springfield-armory-xds-hellcat-armorer-baltimore-md-3307/
END:VEVENT
END:VCALENDAR
