BEGIN:VCALENDAR
VERSION:2.0
PRODID:-//LEO Network//Training Calendar//EN
BEGIN:VEVENT
UID:event-3344@leo-network.com
DTSTAMP:20260424T013708Z
DTSTART:20240125T160000Z
DTEND:20240126T010000Z
SUMMARY:Case Law for Cops: The Street Edition
DESCRIPTION:Law Enforcement Training
Hosted by: Bloodgood Law Enforcement Training Group 

View event details:
https://www.leo-network.com/event/case-law-for-cops-the-street-edition-jersey-city-nj-3344/
LOCATION:Jersey City, NJ
URL:https://www.leo-network.com/event/case-law-for-cops-the-street-edition-jersey-city-nj-3344/
END:VEVENT
END:VCALENDAR
