BEGIN:VCALENDAR
VERSION:2.0
PRODID:-//LEO Network//Training Calendar//EN
BEGIN:VEVENT
UID:event-3350@leo-network.com
DTSTAMP:20260425T212103Z
DTSTART:20240222T160000Z
DTEND:20240223T010000Z
SUMMARY:\"Next Level\" Report Writing: Moving Beyond the Basics 
DESCRIPTION:Law Enforcement Training
Hosted by: J Harris Academy of Police Training

View event details:
https://www.leo-network.com/event/next-level-report-writing-moving-beyond-the-basics-cookstown-nj-3350/
LOCATION:Cookstown, NJ
URL:https://www.leo-network.com/event/next-level-report-writing-moving-beyond-the-basics-cookstown-nj-3350/
END:VEVENT
END:VCALENDAR
