BEGIN:VCALENDAR
VERSION:2.0
PRODID:-//LEO Network//Training Calendar//EN
BEGIN:VEVENT
UID:event-3351@leo-network.com
DTSTAMP:20260421T190225Z
DTSTART:20240320T150000Z
DTEND:20240322T000000Z
SUMMARY:Command Series Level 2: Developing 
DESCRIPTION:Law Enforcement Training
Hosted by: J Harris Academy of Police Training

View event details:
https://www.leo-network.com/event/command-series-level-2-developing-southington-ct-3351/
LOCATION:Southington, CT
URL:https://www.leo-network.com/event/command-series-level-2-developing-southington-ct-3351/
END:VEVENT
END:VCALENDAR
