BEGIN:VCALENDAR
VERSION:2.0
PRODID:-//LEO Network//Training Calendar//EN
BEGIN:VEVENT
UID:event-336@leo-network.com
DTSTAMP:20260419T210045Z
DTSTART:20221208T160000Z
DTEND:20221209T010000Z
SUMMARY:Advanced Criminal Investigations
DESCRIPTION:Law Enforcement Training
Hosted by: Blue to Gold Training

View event details:
https://www.leo-network.com/event/advanced-criminal-investigations-andover-mn-336/
LOCATION:Andover, MN
URL:https://www.leo-network.com/event/advanced-criminal-investigations-andover-mn-336/
END:VEVENT
END:VCALENDAR
