BEGIN:VCALENDAR
VERSION:2.0
PRODID:-//LEO Network//Training Calendar//EN
BEGIN:VEVENT
UID:event-3405@leo-network.com
DTSTAMP:20260423T102538Z
DTSTART:20231212T160000Z
DTEND:20231213T010000Z
SUMMARY:Effective Interview and Interrogation Techniques
DESCRIPTION:Law Enforcement Training
Hosted by: Street Cop Training

View event details:
https://www.leo-network.com/event/effective-interview-and-interrogation-techniques-summerville-wv-3405/
LOCATION:Summerville , WV
URL:https://www.leo-network.com/event/effective-interview-and-interrogation-techniques-summerville-wv-3405/
END:VEVENT
END:VCALENDAR
