BEGIN:VCALENDAR
VERSION:2.0
PRODID:-//LEO Network//Training Calendar//EN
BEGIN:VEVENT
UID:event-3424@leo-network.com
DTSTAMP:20260421T141551Z
DTSTART:20240408T150000Z
DTEND:20240413T000000Z
SUMMARY:Pedestrian/Bicycle Crash Investigation - Level I
DESCRIPTION:Law Enforcement Training
Hosted by: Institute of Police Technology and Management (IPTM)

View event details:
https://www.leo-network.com/event/pedestrian-bicycle-crash-investigation-level-i-largo-fl-3424/
LOCATION:Largo, FL
URL:https://www.leo-network.com/event/pedestrian-bicycle-crash-investigation-level-i-largo-fl-3424/
END:VEVENT
END:VCALENDAR
