BEGIN:VCALENDAR
VERSION:2.0
PRODID:-//LEO Network//Training Calendar//EN
BEGIN:VEVENT
UID:event-3458@leo-network.com
DTSTAMP:20260422T143158Z
DTSTART:20240415T150000Z
DTEND:20240420T000000Z
SUMMARY:Basic FTO Certification Program (San Jose Model)
DESCRIPTION:Law Enforcement Training
Hosted by: The Adaptive Way LLC

View event details:
https://www.leo-network.com/event/basic-fto-certification-program-san-jose-model-medina-oh-3458/
LOCATION:Medina, OH
URL:https://www.leo-network.com/event/basic-fto-certification-program-san-jose-model-medina-oh-3458/
END:VEVENT
END:VCALENDAR
