BEGIN:VCALENDAR
VERSION:2.0
PRODID:-//LEO Network//Training Calendar//EN
BEGIN:VEVENT
UID:event-3484@leo-network.com
DTSTAMP:20260421T141535Z
DTSTART:20240617T150000Z
DTEND:20240622T000000Z
SUMMARY:Event Data Recorder Use in Traffic Crash Reconstruction - Level II
DESCRIPTION:Law Enforcement Training
Hosted by: Institute of Police Technology and Management (IPTM)

View event details:
https://www.leo-network.com/event/event-data-recorder-use-in-traffic-crash-reconstruction-level-ii-largo-fl-3484/
LOCATION:Largo, FL
URL:https://www.leo-network.com/event/event-data-recorder-use-in-traffic-crash-reconstruction-level-ii-largo-fl-3484/
END:VEVENT
END:VCALENDAR
