BEGIN:VCALENDAR
VERSION:2.0
PRODID:-//LEO Network//Training Calendar//EN
BEGIN:VEVENT
UID:event-350@leo-network.com
DTSTAMP:20260422T155004Z
DTSTART:20230105T160000Z
DTEND:20230106T010000Z
SUMMARY:Mastering Search & Seizure
DESCRIPTION:Law Enforcement Training
Hosted by: Blue to Gold Training

View event details:
https://www.leo-network.com/event/mastering-search-seizure-topeka-ks-350/
LOCATION:Topeka, KS
URL:https://www.leo-network.com/event/mastering-search-seizure-topeka-ks-350/
END:VEVENT
END:VCALENDAR
