BEGIN:VCALENDAR
VERSION:2.0
PRODID:-//LEO Network//Training Calendar//EN
BEGIN:VEVENT
UID:event-3535@leo-network.com
DTSTAMP:20260422T144508Z
DTSTART:20240906T150000Z
DTEND:20240907T000000Z
SUMMARY:EQ for the Telecommunicator
DESCRIPTION:Law Enforcement Training
Hosted by: The Adaptive Way LLC

View event details:
https://www.leo-network.com/event/eq-for-the-telecommunicator-medina-oh-3535/
LOCATION:Medina, OH
URL:https://www.leo-network.com/event/eq-for-the-telecommunicator-medina-oh-3535/
END:VEVENT
END:VCALENDAR
