BEGIN:VCALENDAR
VERSION:2.0
PRODID:-//LEO Network//Training Calendar//EN
BEGIN:VEVENT
UID:event-3536@leo-network.com
DTSTAMP:20260422T155004Z
DTSTART:20240904T150000Z
DTEND:20240906T000000Z
SUMMARY:Supervising the FTO Program
DESCRIPTION:Law Enforcement Training
Hosted by: The Adaptive Way LLC

View event details:
https://www.leo-network.com/event/supervising-the-fto-program-medina-oh-3536/
LOCATION:Medina, OH
URL:https://www.leo-network.com/event/supervising-the-fto-program-medina-oh-3536/
END:VEVENT
END:VCALENDAR
