BEGIN:VCALENDAR
VERSION:2.0
PRODID:-//LEO Network//Training Calendar//EN
BEGIN:VEVENT
UID:event-3573@leo-network.com
DTSTAMP:20260421T135523Z
DTSTART:20240429T150000Z
DTEND:20240404T000000Z
SUMMARY:Traffic Crash Reconstruction - Level II
DESCRIPTION:Law Enforcement Training
Hosted by: Institute of Police Technology and Management (IPTM)

View event details:
https://www.leo-network.com/event/traffic-crash-reconstruction-level-ii-largo-fl-3573/
LOCATION:Largo, FL
URL:https://www.leo-network.com/event/traffic-crash-reconstruction-level-ii-largo-fl-3573/
END:VEVENT
END:VCALENDAR
