BEGIN:VCALENDAR
VERSION:2.0
PRODID:-//LEO Network//Training Calendar//EN
BEGIN:VEVENT
UID:event-3581@leo-network.com
DTSTAMP:20260422T144642Z
DTSTART:20231129T160000Z
DTEND:20231130T010000Z
SUMMARY:Critical Incident Response
DESCRIPTION:Law Enforcement Training
Hosted by: J Harris Academy of Police Training

View event details:
https://www.leo-network.com/event/critical-incident-response-little-silver-nj-3581/
LOCATION:Little Silver, NJ
URL:https://www.leo-network.com/event/critical-incident-response-little-silver-nj-3581/
END:VEVENT
END:VCALENDAR
