BEGIN:VCALENDAR
VERSION:2.0
PRODID:-//LEO Network//Training Calendar//EN
BEGIN:VEVENT
UID:event-3594@leo-network.com
DTSTAMP:20260423T114354Z
DTSTART:20240314T150000Z
DTEND:20240316T000000Z
SUMMARY:De-escalation & Documenting Use of Force
DESCRIPTION:Law Enforcement Training
Hosted by: 360 Policing

View event details:
https://www.leo-network.com/event/de-escalation-documenting-use-of-force-greensboro-nc-3594/
LOCATION:Greensboro, NC
URL:https://www.leo-network.com/event/de-escalation-documenting-use-of-force-greensboro-nc-3594/
END:VEVENT
END:VCALENDAR
