BEGIN:VCALENDAR
VERSION:2.0
PRODID:-//LEO Network//Training Calendar//EN
BEGIN:VEVENT
UID:event-3595@leo-network.com
DTSTAMP:20260423T114337Z
DTSTART:20240411T150000Z
DTEND:20240413T000000Z
SUMMARY:Response to Aggression for Female 1st Responders
DESCRIPTION:Law Enforcement Training
Hosted by: 360 Policing

View event details:
https://www.leo-network.com/event/response-to-aggression-for-female-1st-responders-greensboro-nc-3595/
LOCATION:Greensboro, NC
URL:https://www.leo-network.com/event/response-to-aggression-for-female-1st-responders-greensboro-nc-3595/
END:VEVENT
END:VCALENDAR
