BEGIN:VCALENDAR
VERSION:2.0
PRODID:-//LEO Network//Training Calendar//EN
BEGIN:VEVENT
UID:event-3598@leo-network.com
DTSTAMP:20260423T114312Z
DTSTART:20240109T160000Z
DTEND:20240111T010000Z
SUMMARY:Use of Force Review for Supervisors
DESCRIPTION:Law Enforcement Training
Hosted by: 360 Policing

View event details:
https://www.leo-network.com/event/use-of-force-review-for-supervisors-greensboro-nc-3598/
LOCATION:Greensboro, NC
URL:https://www.leo-network.com/event/use-of-force-review-for-supervisors-greensboro-nc-3598/
END:VEVENT
END:VCALENDAR
