BEGIN:VCALENDAR
VERSION:2.0
PRODID:-//LEO Network//Training Calendar//EN
BEGIN:VEVENT
UID:event-3656@leo-network.com
DTSTAMP:20260423T114414Z
DTSTART:20241001T150000Z
DTEND:20241004T000000Z
SUMMARY:Master Instructor Development Program - Security Edition
DESCRIPTION:Law Enforcement Training
Hosted by: International Association of Law Enforcement Firearms Instructors

View event details:
https://www.leo-network.com/event/master-instructor-development-program-security-edition-jackson-springs-nc-3656/
LOCATION:Jackson Springs, NC
URL:https://www.leo-network.com/event/master-instructor-development-program-security-edition-jackson-springs-nc-3656/
END:VEVENT
END:VCALENDAR
