BEGIN:VCALENDAR
VERSION:2.0
PRODID:-//LEO Network//Training Calendar//EN
BEGIN:VEVENT
UID:event-3670@leo-network.com
DTSTAMP:20260425T145946Z
DTSTART:20231214T160000Z
DTEND:20231215T010000Z
SUMMARY:New Jersey Code of Criminal Justice (Title 2C)
DESCRIPTION:Law Enforcement Training
Hosted by: J Harris Academy of Police Training

View event details:
https://www.leo-network.com/event/new-jersey-code-of-criminal-justice-title-2c-wayne-nj-3670/
LOCATION:Wayne, NJ
URL:https://www.leo-network.com/event/new-jersey-code-of-criminal-justice-title-2c-wayne-nj-3670/
END:VEVENT
END:VCALENDAR
