BEGIN:VCALENDAR
VERSION:2.0
PRODID:-//LEO Network//Training Calendar//EN
BEGIN:VEVENT
UID:event-3673@leo-network.com
DTSTAMP:20260423T134930Z
DTSTART:20240912T150000Z
DTEND:20240913T000000Z
SUMMARY:New Jersey Code of Criminal Justice (Title 2C)
DESCRIPTION:Law Enforcement Training
Hosted by: J Harris Academy of Police Training

View event details:
https://www.leo-network.com/event/new-jersey-code-of-criminal-justice-title-2c-clark-nj-3673/
LOCATION:Clark, NJ
URL:https://www.leo-network.com/event/new-jersey-code-of-criminal-justice-title-2c-clark-nj-3673/
END:VEVENT
END:VCALENDAR
