BEGIN:VCALENDAR
VERSION:2.0
PRODID:-//LEO Network//Training Calendar//EN
BEGIN:VEVENT
UID:event-3674@leo-network.com
DTSTAMP:20260425T123405Z
DTSTART:20231211T160000Z
DTEND:20231212T010000Z
SUMMARY:New Jersey Motor Vehicle Law (Title 39)
DESCRIPTION:Law Enforcement Training
Hosted by: J Harris Academy of Police Training

View event details:
https://www.leo-network.com/event/new-jersey-motor-vehicle-law-title-39-wayne-nj-3674/
LOCATION:Wayne, NJ
URL:https://www.leo-network.com/event/new-jersey-motor-vehicle-law-title-39-wayne-nj-3674/
END:VEVENT
END:VCALENDAR
