BEGIN:VCALENDAR
VERSION:2.0
PRODID:-//LEO Network//Training Calendar//EN
BEGIN:VEVENT
UID:event-3675@leo-network.com
DTSTAMP:20260425T173252Z
DTSTART:20240118T160000Z
DTEND:20240119T010000Z
SUMMARY:New Jersey Motor Vehicle Law (Title 39)
DESCRIPTION:Law Enforcement Training
Hosted by: J Harris Academy of Police Training

View event details:
https://www.leo-network.com/event/new-jersey-motor-vehicle-law-title-39-new-hanover-nj-3675/
LOCATION:New Hanover, NJ
URL:https://www.leo-network.com/event/new-jersey-motor-vehicle-law-title-39-new-hanover-nj-3675/
END:VEVENT
END:VCALENDAR
