BEGIN:VCALENDAR
VERSION:2.0
PRODID:-//LEO Network//Training Calendar//EN
BEGIN:VEVENT
UID:event-3677@leo-network.com
DTSTAMP:20260423T135104Z
DTSTART:20240731T150000Z
DTEND:20240702T000000Z
SUMMARY:New Jersey Attorney General Guidelines & Directives
DESCRIPTION:Law Enforcement Training
Hosted by: J Harris Academy of Police Training

View event details:
https://www.leo-network.com/event/new-jersey-attorney-general-guidelines-directives-clark-nj-3677/
LOCATION:Clark, NJ
URL:https://www.leo-network.com/event/new-jersey-attorney-general-guidelines-directives-clark-nj-3677/
END:VEVENT
END:VCALENDAR
