BEGIN:VCALENDAR
VERSION:2.0
PRODID:-//LEO Network//Training Calendar//EN
BEGIN:VEVENT
UID:event-3710@leo-network.com
DTSTAMP:20260423T034921Z
DTSTART:20240805T150000Z
DTEND:20240810T000000Z
SUMMARY:SPEAR System®: Instructor Certification
DESCRIPTION:Law Enforcement Training
Hosted by: BTS Inc.

View event details:
https://www.leo-network.com/event/spear-system-instructor-certification-peterborough-nh-3710/
LOCATION:Peterborough, NH
URL:https://www.leo-network.com/event/spear-system-instructor-certification-peterborough-nh-3710/
END:VEVENT
END:VCALENDAR
